BEGIN:VCALENDAR
VERSION:2.0
PRODID:-//Tina Nesrallah - ECPv6.3.5//NONSGML v1.0//EN
CALSCALE:GREGORIAN
METHOD:PUBLISH
X-WR-CALNAME:Tina Nesrallah
X-ORIGINAL-URL:https://tinanesrallah.com
X-WR-CALDESC:Events for Tina Nesrallah
REFRESH-INTERVAL;VALUE=DURATION:PT1H
X-Robots-Tag:noindex
X-PUBLISHED-TTL:PT1H
BEGIN:VTIMEZONE
TZID:UTC
BEGIN:STANDARD
TZOFFSETFROM:+0000
TZOFFSETTO:+0000
TZNAME:UTC
DTSTART:20230101T000000
END:STANDARD
END:VTIMEZONE
BEGIN:VEVENT
DTSTART;TZID=UTC:20230817T191500
DTEND;TZID=UTC:20230817T201500
DTSTAMP:20260421T115853
CREATED:20230808T220654Z
LAST-MODIFIED:20230808T220654Z
UID:988-1692299700-1692303300@tinanesrallah.com
SUMMARY:Yoga Class!
DESCRIPTION:New moon yoga class is just around the corner!\n\nThe new moon is on August 17 however we can feel the energy 3 days before and 3 days after.\n\nJoin me as we release old energy and make way for new beginnings!\n\nDate: Thursday August 17\, 2023\n\nTime: 7:15 p.m.\, class will be 1 hour in length\n\nCost: $15 per class\, please confirm your attendance to findyourinnerflow@gmail.com\n\nRegistration: please register by noon the day of the class\n\nLocation: Dunamis Fitness Studio\, 1980 Ogilvie Rd\, inside the Loblaws (up the staircase by the produce section)\n\nBring a friend!\nNamaste \nTina xo
URL:https://tinanesrallah.com/event/yoga-class/
ATTACH;FMTTYPE=image/png:https://tinanesrallah.com/wp-content/uploads/2023/08/Aug-17.png
END:VEVENT
END:VCALENDAR