BEGIN:VCALENDAR
VERSION:2.0
PRODID:-//Tina Nesrallah - ECPv6.3.5//NONSGML v1.0//EN
CALSCALE:GREGORIAN
METHOD:PUBLISH
X-WR-CALNAME:Tina Nesrallah
X-ORIGINAL-URL:https://tinanesrallah.com
X-WR-CALDESC:Events for Tina Nesrallah
REFRESH-INTERVAL;VALUE=DURATION:PT1H
X-Robots-Tag:noindex
X-PUBLISHED-TTL:PT1H
BEGIN:VTIMEZONE
TZID:UTC
BEGIN:STANDARD
TZOFFSETFROM:+0000
TZOFFSETTO:+0000
TZNAME:UTC
DTSTART:20220101T000000
END:STANDARD
END:VTIMEZONE
BEGIN:VEVENT
DTSTART;TZID=UTC:20230704T190000
DTEND;TZID=UTC:20230704T190000
DTSTAMP:20260422T013706
CREATED:20230626T231838Z
LAST-MODIFIED:20230626T231838Z
UID:980-1688497200-1688497200@tinanesrallah.com
SUMMARY:Walking Club!
DESCRIPTION:Are you looking to connect with likeminded people?\n\nDo you love being outside and in nature?\n\nAre you struggling to get moving and need help?\n\nDo you love to walk but don’t because you don’t have anyone to walk with?\n\nAre you trying to lose weight and just don’t know where to start?\n\nIf you answered yes to one or more of these questions than you need to join my walking club!\n\nAll you need is a good pair of walking shoes\, comfy cloths\, water bottle\, that’s it!\n\nWe start Tuesday July 4 at 7 p.m.\, each week we will pick difference area to walk in.\n\nSo tell your boss you need to leave on time Tuesdays\, tell your partner and kids you need to leave the house at 6:30 p.m. Tuesdays and they need to get themselves sorted. It’s time to put YOU first. Work\, laundry\, dishes\, emails can wait. Summer is far too short to spend it inside working or sitting on the couch. Let’s get outside and enjoy life!!\n\nFor our first walk we will meet in the Beechwood area. Once you sign up I will give you the meeting location.\n\nSend this email to your friends and family!!\n\nEmail to sign up!\n\nJoin me and let’s get walking!!\nTina xox
URL:https://tinanesrallah.com/event/walking-club/
ATTACH;FMTTYPE=image/png:https://tinanesrallah.com/wp-content/uploads/2023/06/Walking-Club.png
END:VEVENT
BEGIN:VEVENT
DTSTART;TZID=UTC:20230617T100000
DTEND;TZID=UTC:20230617T130000
DTSTAMP:20260422T013706
CREATED:20230612T202800Z
LAST-MODIFIED:20230612T202800Z
UID:972-1686996000-1687006800@tinanesrallah.com
SUMMARY:Heart Opening Event
DESCRIPTION:I’m excited to share a new event with you!\n\nYou are invited to join Marie-Lune and I\, Saturday June 17 at 10 a.m. for our Heart Opening Event!\n\nWhat you will experience during our time together:\n\nMovement – flow yoga\n\nMeditation – sound healing (crystal bowls)\n\nHealing – reiki energy\n\nPersonal Reading – 3 oracle cards\n\nMarie-Lune Fortin is a Healer\, Channeler & Animal Communicator. She is a beautiful soul who has helped so many people with her incredible gift of healing and channeling.\n\nWe will meet at the Dunamis Fitness Studio at 1980 Ogilvie Rd. (in the Loblaws\, second floor) from 10 a.m. to 1 p.m.\n\nThe investment in your healing and opportunity to connect with like-minded souls is $111.\n\nTo register email findyourinnerflow@gmail.com.\n\nWe cannot wait to connect with you!
URL:https://tinanesrallah.com/event/heart-opening-event/
LOCATION:Dunamis Fitness Studio\, 1980 Ogilvie Rd. (in the Loblaws\, second floor)
ATTACH;FMTTYPE=image/png:https://tinanesrallah.com/wp-content/uploads/2023/06/Flyer.png
END:VEVENT
BEGIN:VEVENT
DTSTART;TZID=UTC:20220823T190000
DTEND;TZID=UTC:20220823T210000
DTSTAMP:20260422T013706
CREATED:20230415T170309Z
LAST-MODIFIED:20230415T170631Z
UID:944-1661281200-1661288400@tinanesrallah.com
SUMMARY:Movement & Meditation
DESCRIPTION:Are you looking to improve your overall health and wellbeing? Do you want to cultivate a deeper sense of awareness and connection with your body and mind? If so\, we have an event that’s perfect for you! \nJoin us for a transformative experience that combines movement\, meditation\, and energy healing. Our expert instructors will guide you through a series of movement practices\, such as yoga and dance\, designed to improve your strength\, flexibility\, and cardiovascular health. Through these practices\, you’ll also cultivate a deeper connection with your body and enhance your body awareness. \nNext\, we’ll move into a series of meditation practices that will help you quiet your mind\, reduce stress\, and achieve a state of deep relaxation and inner peace. Our experienced teachers will guide you through different meditation techniques\, such as mindfulness meditation and loving-kindness meditation\, to help you find the practice that works best for you. \nFinally\, we’ll explore the transformative power of energy healing. Our skilled practitioners will guide you through a variety of energy healing techniques\, such as Reiki and chakra balancing\, to help you release any blockages and promote healing and balance in your body and mind. \nThis event is perfect for anyone who wants to improve their overall health and wellbeing and cultivate a deeper sense of awareness and connection with their body and mind. You’ll leave feeling rejuvenated\, relaxed\, and energized\, with new tools and practices to incorporate into your daily life. Don’t miss out on this incredible opportunity to transform your life!
URL:https://tinanesrallah.com/event/movement-meditation/
LOCATION:Misiwe Ni Healing Lodge
ATTACH;FMTTYPE=image/jpeg:https://tinanesrallah.com/wp-content/uploads/2023/04/Event-Mindfulness-scaled.jpg
END:VEVENT
END:VCALENDAR