BEGIN:VCALENDAR
VERSION:2.0
PRODID:-//Tina Nesrallah - ECPv6.3.5//NONSGML v1.0//EN
CALSCALE:GREGORIAN
METHOD:PUBLISH
X-WR-CALNAME:Tina Nesrallah
X-ORIGINAL-URL:https://tinanesrallah.com
X-WR-CALDESC:Events for Tina Nesrallah
REFRESH-INTERVAL;VALUE=DURATION:PT1H
X-Robots-Tag:noindex
X-PUBLISHED-TTL:PT1H
BEGIN:VTIMEZONE
TZID:UTC
BEGIN:STANDARD
TZOFFSETFROM:+0000
TZOFFSETTO:+0000
TZNAME:UTC
DTSTART:20230101T000000
END:STANDARD
END:VTIMEZONE
BEGIN:VEVENT
DTSTART;TZID=UTC:20230617T100000
DTEND;TZID=UTC:20230617T130000
DTSTAMP:20260421T133729
CREATED:20230612T202800Z
LAST-MODIFIED:20230612T202800Z
UID:972-1686996000-1687006800@tinanesrallah.com
SUMMARY:Heart Opening Event
DESCRIPTION:I’m excited to share a new event with you!\n\nYou are invited to join Marie-Lune and I\, Saturday June 17 at 10 a.m. for our Heart Opening Event!\n\nWhat you will experience during our time together:\n\nMovement – flow yoga\n\nMeditation – sound healing (crystal bowls)\n\nHealing – reiki energy\n\nPersonal Reading – 3 oracle cards\n\nMarie-Lune Fortin is a Healer\, Channeler & Animal Communicator. She is a beautiful soul who has helped so many people with her incredible gift of healing and channeling.\n\nWe will meet at the Dunamis Fitness Studio at 1980 Ogilvie Rd. (in the Loblaws\, second floor) from 10 a.m. to 1 p.m.\n\nThe investment in your healing and opportunity to connect with like-minded souls is $111.\n\nTo register email findyourinnerflow@gmail.com.\n\nWe cannot wait to connect with you!
URL:https://tinanesrallah.com/event/heart-opening-event/
LOCATION:Dunamis Fitness Studio\, 1980 Ogilvie Rd. (in the Loblaws\, second floor)
ATTACH;FMTTYPE=image/png:https://tinanesrallah.com/wp-content/uploads/2023/06/Flyer.png
END:VEVENT
END:VCALENDAR